BEGIN:VCALENDAR
VERSION:2.0
PRODID:-//eventon.com NONSGML v1.0//EN
CALSCALE:GREGORIAN
METHOD:PUBLISH
BEGIN:VEVENT
UID:69e8a3080f77f
DTSTAMP:20260422T102928Z
DTSTART:20251101T180000Z
DTEND:20251101T235000Z
LOCATION:
SUMMARY:28215 Bremen
DESCRIPTION:28215 Bremen\nhttps://grumis.de/events/28215-bremen-9/
URL:https://grumis.de/events/28215-bremen-9/
END:VEVENT
END:VCALENDAR