BEGIN:VCALENDAR
VERSION:2.0
PRODID:-//eventon.com NONSGML v1.0//EN
CALSCALE:GREGORIAN
METHOD:PUBLISH
BEGIN:VEVENT
UID:69e783c2d86a9
DTSTAMP:20260421T140346Z
DTSTART:20240320T180000Z
DTEND:20240320T235000Z
LOCATION:
SUMMARY:97082 Würzburg
DESCRIPTION:97082 Würzburg\nhttps://grumis.de/events/97082-wuerzburg-9/
URL:https://grumis.de/events/97082-wuerzburg-9/
END:VEVENT
END:VCALENDAR