BEGIN:VCALENDAR
VERSION:2.0
PRODID:-//eventon.com NONSGML v1.0//EN
CALSCALE:GREGORIAN
METHOD:PUBLISH
BEGIN:VEVENT
UID:69e74c4dc6bfa
DTSTAMP:20260421T100709Z
DTSTART:20231007T200000Z
DTEND:20231007T235000Z
LOCATION:
SUMMARY:65232 Taunusstein
DESCRIPTION:65232 Taunusstein\nhttps://grumis.de/events/65232-taunusstein/
URL:https://grumis.de/events/65232-taunusstein/
END:VEVENT
END:VCALENDAR