BEGIN:VCALENDAR
VERSION:2.0
PRODID:-//eventon.com NONSGML v1.0//EN
CALSCALE:GREGORIAN
METHOD:PUBLISH
BEGIN:VEVENT
UID:69e89eb3afdf5
DTSTAMP:20260422T101059Z
DTSTART:20230923T190000Z
DTEND:20230923T235000Z
LOCATION:
SUMMARY:14947 Nuthe-Urstromtal OT Lynow
DESCRIPTION:14947 Nuthe-Urstromtal OT Lynow\nhttps://grumis.de/events/14947
 -nuthe-urstromtal-ot-lynow/
URL:https://grumis.de/events/14947-nuthe-urstromtal-ot-lynow/
END:VEVENT
END:VCALENDAR