BEGIN:VCALENDAR
VERSION:2.0
PRODID:-//eventon.com NONSGML v1.0//EN
CALSCALE:GREGORIAN
METHOD:PUBLISH
BEGIN:VEVENT
UID:69e74991188bf
DTSTAMP:20260421T095529Z
DTSTART:20230518T150000Z
DTEND:20230518T235000Z
LOCATION:
SUMMARY:91054 Erlangen
DESCRIPTION:91054 Erlangen\nhttps://grumis.de/events/91054-erlangen/
URL:https://grumis.de/events/91054-erlangen/
END:VEVENT
END:VCALENDAR